BEGIN:VCALENDAR
VERSION:2.0
PRODID:-//The Flash Today Erath County - ECPv6.15.20//NONSGML v1.0//EN
CALSCALE:GREGORIAN
METHOD:PUBLISH
X-WR-CALNAME:The Flash Today Erath County
X-ORIGINAL-URL:https://theflashtoday.com
X-WR-CALDESC:Events for The Flash Today Erath County
REFRESH-INTERVAL;VALUE=DURATION:PT1H
X-Robots-Tag:noindex
X-PUBLISHED-TTL:PT1H
BEGIN:VTIMEZONE
TZID:America/Chicago
BEGIN:DAYLIGHT
TZOFFSETFROM:-0600
TZOFFSETTO:-0500
TZNAME:CDT
DTSTART:20140309T080000
END:DAYLIGHT
BEGIN:STANDARD
TZOFFSETFROM:-0500
TZOFFSETTO:-0600
TZNAME:CST
DTSTART:20141102T070000
END:STANDARD
BEGIN:DAYLIGHT
TZOFFSETFROM:-0600
TZOFFSETTO:-0500
TZNAME:CDT
DTSTART:20150308T080000
END:DAYLIGHT
BEGIN:STANDARD
TZOFFSETFROM:-0500
TZOFFSETTO:-0600
TZNAME:CST
DTSTART:20151101T070000
END:STANDARD
BEGIN:DAYLIGHT
TZOFFSETFROM:-0600
TZOFFSETTO:-0500
TZNAME:CDT
DTSTART:20160313T080000
END:DAYLIGHT
BEGIN:STANDARD
TZOFFSETFROM:-0500
TZOFFSETTO:-0600
TZNAME:CST
DTSTART:20161106T070000
END:STANDARD
BEGIN:DAYLIGHT
TZOFFSETFROM:-0600
TZOFFSETTO:-0500
TZNAME:CDT
DTSTART:20170312T080000
END:DAYLIGHT
BEGIN:STANDARD
TZOFFSETFROM:-0500
TZOFFSETTO:-0600
TZNAME:CST
DTSTART:20171105T070000
END:STANDARD
BEGIN:DAYLIGHT
TZOFFSETFROM:-0600
TZOFFSETTO:-0500
TZNAME:CDT
DTSTART:20180311T080000
END:DAYLIGHT
BEGIN:STANDARD
TZOFFSETFROM:-0500
TZOFFSETTO:-0600
TZNAME:CST
DTSTART:20181104T070000
END:STANDARD
BEGIN:DAYLIGHT
TZOFFSETFROM:-0600
TZOFFSETTO:-0500
TZNAME:CDT
DTSTART:20190310T080000
END:DAYLIGHT
BEGIN:STANDARD
TZOFFSETFROM:-0500
TZOFFSETTO:-0600
TZNAME:CST
DTSTART:20191103T070000
END:STANDARD
BEGIN:DAYLIGHT
TZOFFSETFROM:-0600
TZOFFSETTO:-0500
TZNAME:CDT
DTSTART:20200308T080000
END:DAYLIGHT
BEGIN:STANDARD
TZOFFSETFROM:-0500
TZOFFSETTO:-0600
TZNAME:CST
DTSTART:20201101T070000
END:STANDARD
BEGIN:DAYLIGHT
TZOFFSETFROM:-0600
TZOFFSETTO:-0500
TZNAME:CDT
DTSTART:20210314T080000
END:DAYLIGHT
BEGIN:STANDARD
TZOFFSETFROM:-0500
TZOFFSETTO:-0600
TZNAME:CST
DTSTART:20211107T070000
END:STANDARD
BEGIN:DAYLIGHT
TZOFFSETFROM:-0600
TZOFFSETTO:-0500
TZNAME:CDT
DTSTART:20220313T080000
END:DAYLIGHT
BEGIN:STANDARD
TZOFFSETFROM:-0500
TZOFFSETTO:-0600
TZNAME:CST
DTSTART:20221106T070000
END:STANDARD
BEGIN:DAYLIGHT
TZOFFSETFROM:-0600
TZOFFSETTO:-0500
TZNAME:CDT
DTSTART:20230312T080000
END:DAYLIGHT
BEGIN:STANDARD
TZOFFSETFROM:-0500
TZOFFSETTO:-0600
TZNAME:CST
DTSTART:20231105T070000
END:STANDARD
BEGIN:DAYLIGHT
TZOFFSETFROM:-0600
TZOFFSETTO:-0500
TZNAME:CDT
DTSTART:20240310T080000
END:DAYLIGHT
BEGIN:STANDARD
TZOFFSETFROM:-0500
TZOFFSETTO:-0600
TZNAME:CST
DTSTART:20241103T070000
END:STANDARD
BEGIN:DAYLIGHT
TZOFFSETFROM:-0600
TZOFFSETTO:-0500
TZNAME:CDT
DTSTART:20250309T080000
END:DAYLIGHT
BEGIN:STANDARD
TZOFFSETFROM:-0500
TZOFFSETTO:-0600
TZNAME:CST
DTSTART:20251102T070000
END:STANDARD
END:VTIMEZONE
BEGIN:VEVENT
DTSTART;TZID=America/Chicago:20240720T110000
DTEND;TZID=America/Chicago:20240720T150000
DTSTAMP:20260424T055143
CREATED:20240712T030219Z
LAST-MODIFIED:20240712T030219Z
UID:153210-1721473200-1721487600@theflashtoday.com
SUMMARY:Blood Drive Sponsored by Harmony Masonic Lodge #592
DESCRIPTION:Harmony Masonic Lodge #592 will be sponsoring a Blood Drive at the Morgan Mill Community Center. For more information\, contact Buddy Stephens (254) 434-3222\nShare this:\n				Print (Opens in new window)\n				Print\n			\n				Email a link to a friend (Opens in new window)\n				Email\n			Tweet\n				Share on Reddit (Opens in new window)\n				Reddit\n			\n				Share on WhatsApp (Opens in new window)\n				WhatsApp\n			Share on TumblrLike this:Like Loading...
URL:https://theflashtoday.com/calendar/blood-drive-sponsored-by-harmony-masonic-lodge-592/
LOCATION:Morgan Mill Community Center\, 406 CR 156\, Morgan Mill\, TX\, 76465\, United States
CATEGORIES:Morgan Mill
ATTACH;FMTTYPE=image/jpeg:https://theflashtoday.com/wp-content/uploads/2024/07/McKenzie.jpg
END:VEVENT
BEGIN:VEVENT
DTSTART;TZID=America/Chicago:20180721T110000
DTEND;TZID=America/Chicago:20180721T160000
DTSTAMP:20260424T055143
CREATED:20180621T155410Z
LAST-MODIFIED:20180621T155410Z
UID:79234-1532170800-1532188800@theflashtoday.com
SUMMARY:Morgan Mill Homemade Ice Cream Freeze Off
DESCRIPTION:The homemade ice cream competition will benefit the local Masonic Lodges. \nThere is a $20 entry fee with a two gallon minimum. \nTickets to attend are $10 for adults and $5 for kids ten and under. The event includes a barbecue lunch and unlimited ice cream. \nContact David Spindor at 817-807-8057 for more information. \nShare this:\n				Print (Opens in new window)\n				Print\n			\n				Email a link to a friend (Opens in new window)\n				Email\n			Tweet\n				Share on Reddit (Opens in new window)\n				Reddit\n			\n				Share on WhatsApp (Opens in new window)\n				WhatsApp\n			Share on TumblrLike this:Like Loading...
URL:https://theflashtoday.com/calendar/morgan-mill-homemade-ice-cream-freeze-off-3/
LOCATION:Morgan Mill Community Center\, 406 CR 156\, Morgan Mill\, TX\, 76465\, United States
CATEGORIES:Morgan Mill
END:VEVENT
BEGIN:VEVENT
DTSTART;TZID=America/Chicago:20170729T110000
DTEND;TZID=America/Chicago:20170729T160000
DTSTAMP:20260424T055143
CREATED:20170710T205709Z
LAST-MODIFIED:20170710T205709Z
UID:58654-1501326000-1501344000@theflashtoday.com
SUMMARY:Morgan Mill Homemade Ice Cream Freeze Off
DESCRIPTION:Morgan Mill is hosting its annual Great Freeze Off. Enter the ice cream for the price of admission plus 20 dollars. Entrees must be a minimum of two gallons. \nAll proceeds will benefit the Masonic Lodges of Harmony 592\, Lingleville 752 and Clairette 1052. \nThe Carter Blood Center Bus will be hosting a blood drive as well. \nTickets are ten dollars per adult and five dollars per child 12 or under. Admission includes a barbecue sandwich\, chips\, drinks and all-you-can-eat ice cream. \nContact David Spindor at 817-807-8057 for more information. \nShare this:\n				Print (Opens in new window)\n				Print\n			\n				Email a link to a friend (Opens in new window)\n				Email\n			Tweet\n				Share on Reddit (Opens in new window)\n				Reddit\n			\n				Share on WhatsApp (Opens in new window)\n				WhatsApp\n			Share on TumblrLike this:Like Loading...
URL:https://theflashtoday.com/calendar/morgan-mill-homemade-ice-cream-freeze-off-2/
LOCATION:Morgan Mill Community Center\, 406 CR 156\, Morgan Mill\, TX\, 76465\, United States
CATEGORIES:Morgan Mill
END:VEVENT
BEGIN:VEVENT
DTSTART;TZID=America/Chicago:20160730T110000
DTEND;TZID=America/Chicago:20160730T160000
DTSTAMP:20260424T055143
CREATED:20160718T212334Z
LAST-MODIFIED:20160718T212334Z
UID:33298-1469876400-1469894400@theflashtoday.com
SUMMARY:Morgan Mill Homemade Ice Cream Freeze Off
DESCRIPTION:Winners will win cash prizes. The cost of admission is $15 for adults and $6 for kids 12 and under. Admission includes a barbecue sandwich\, chips\, drink and all the ice cream you can eat. The contest costs an extra $20 to enter with a two gallon minimum. \nAll proceeds will benefit the Masonic Lodges of Harmony 592\, Lingleville 752 and Clairette 1052. \nContact David Spindor at 817-807-8057 for more information. \nThe Carter Blood Center Bus will also be at the event. \nShare this:\n				Print (Opens in new window)\n				Print\n			\n				Email a link to a friend (Opens in new window)\n				Email\n			Tweet\n				Share on Reddit (Opens in new window)\n				Reddit\n			\n				Share on WhatsApp (Opens in new window)\n				WhatsApp\n			Share on TumblrLike this:Like Loading...
URL:https://theflashtoday.com/calendar/morgan-mill-homemade-ice-cream-freeze-off/
LOCATION:Morgan Mill Community Center\, 406 CR 156\, Morgan Mill\, TX\, 76465\, United States
CATEGORIES:Morgan Mill
END:VEVENT
BEGIN:VEVENT
DTSTART;TZID=America/Chicago:20151120T110000
DTEND;TZID=America/Chicago:20151120T130000
DTSTAMP:20260424T055143
CREATED:20151104T142151Z
LAST-MODIFIED:20151104T142151Z
UID:19132-1448017200-1448024400@theflashtoday.com
SUMMARY:Morgan Mill Community Thanksgiving Dinner
DESCRIPTION:Come enjoy turkey and dressing with the community and soldiers from Fort Hood at Morgan Mill ISD. Call Dean Edwards at (254)968-4921 for more information. \nShare this:\n				Print (Opens in new window)\n				Print\n			\n				Email a link to a friend (Opens in new window)\n				Email\n			Tweet\n				Share on Reddit (Opens in new window)\n				Reddit\n			\n				Share on WhatsApp (Opens in new window)\n				WhatsApp\n			Share on TumblrLike this:Like Loading...
URL:https://theflashtoday.com/calendar/morgan-mill-community-thanksgiving-dinner/
LOCATION:TX
CATEGORIES:Morgan Mill
END:VEVENT
BEGIN:VEVENT
DTSTART;TZID=America/Chicago:20150912T090000
DTEND;TZID=America/Chicago:20150912T150000
DTSTAMP:20260424T055143
CREATED:20150801T172633Z
LAST-MODIFIED:20150801T172633Z
UID:13494-1442048400-1442070000@theflashtoday.com
SUMMARY:Morgan Mill Arts and Crafts Show
DESCRIPTION:Share this:\n				Print (Opens in new window)\n				Print\n			\n				Email a link to a friend (Opens in new window)\n				Email\n			Tweet\n				Share on Reddit (Opens in new window)\n				Reddit\n			\n				Share on WhatsApp (Opens in new window)\n				WhatsApp\n			Share on TumblrLike this:Like Loading...
URL:https://theflashtoday.com/calendar/morgan-mill-arts-and-crafts-show/
LOCATION:Morgan Mill Tabernacle
CATEGORIES:Morgan Mill
END:VEVENT
END:VCALENDAR